BEGIN:VCALENDAR
VERSION:2.0
PRODID:https://www.kufer.de/kuferweb / DE
METHOD:PUBLISH
CALSCALE:GREGORIAN
X-WR-TIMEZONE:Europe/Berlin
BEGIN:VTIMEZONE
TZID:Europe/Berlin
X-LIC-LOCATION:Europe/Berlin
BEGIN:DAYLIGHT
TZOFFSETFROM:+0100
TZOFFSETTO:+0200
TZNAME:CEST
DTSTART:19700329T020000
RRULE:FREQ=YEARLY;INTERVAL=1;BYDAY=-1SU;BYMONTH=3
END:DAYLIGHT
BEGIN:STANDARD
TZOFFSETFROM:+0200
TZOFFSETTO:+0100
TZNAME:CET
DTSTART:19701025T030000
RRULE:FREQ=YEARLY;INTERVAL=1;BYDAY=-1SU;BYMONTH=10
END:STANDARD
END:VTIMEZONE
BEGIN:VEVENT
DTSTAMP:20260420T174416
DTSTART;TZID=Europe/Berlin:20260519T090000
DTEND;TZID=Europe/Berlin:20260519T103000
UID:YO003D-20260519T090000@EV. BILDUNGSWERK - FBS
SUMMARY:PEKiP Di.Vorm. 9 - 10.30 Uhr Jan/Feb/März 26  geb.Babys (YO003D) 
LOCATION:OD Oase in der FBS, Poggenseer Weg 28, Eingang unten links, Poggenseer Weg 28, 23843  Bad Oldesloe
END:VEVENT
BEGIN:VEVENT
DTSTAMP:20260420T174416
DTSTART;TZID=Europe/Berlin:20260526T090000
DTEND;TZID=Europe/Berlin:20260526T103000
UID:YO003D-20260526T090000@EV. BILDUNGSWERK - FBS
SUMMARY:PEKiP Di.Vorm. 9 - 10.30 Uhr Jan/Feb/März 26  geb.Babys (YO003D) 
LOCATION:OD Oase in der FBS, Poggenseer Weg 28, Eingang unten links, Poggenseer Weg 28, 23843  Bad Oldesloe
END:VEVENT
BEGIN:VEVENT
DTSTAMP:20260420T174416
DTSTART;TZID=Europe/Berlin:20260602T090000
DTEND;TZID=Europe/Berlin:20260602T103000
UID:YO003D-20260602T090000@EV. BILDUNGSWERK - FBS
SUMMARY:PEKiP Di.Vorm. 9 - 10.30 Uhr Jan/Feb/März 26  geb.Babys (YO003D) 
LOCATION:OD Oase in der FBS, Poggenseer Weg 28, Eingang unten links, Poggenseer Weg 28, 23843  Bad Oldesloe
END:VEVENT
BEGIN:VEVENT
DTSTAMP:20260420T174416
DTSTART;TZID=Europe/Berlin:20260609T090000
DTEND;TZID=Europe/Berlin:20260609T103000
UID:YO003D-20260609T090000@EV. BILDUNGSWERK - FBS
SUMMARY:PEKiP Di.Vorm. 9 - 10.30 Uhr Jan/Feb/März 26  geb.Babys (YO003D) 
LOCATION:OD Oase in der FBS, Poggenseer Weg 28, Eingang unten links, Poggenseer Weg 28, 23843  Bad Oldesloe
END:VEVENT
BEGIN:VEVENT
DTSTAMP:20260420T174416
DTSTART;TZID=Europe/Berlin:20260616T090000
DTEND;TZID=Europe/Berlin:20260616T103000
UID:YO003D-20260616T090000@EV. BILDUNGSWERK - FBS
SUMMARY:PEKiP Di.Vorm. 9 - 10.30 Uhr Jan/Feb/März 26  geb.Babys (YO003D) 
LOCATION:OD Oase in der FBS, Poggenseer Weg 28, Eingang unten links, Poggenseer Weg 28, 23843  Bad Oldesloe
END:VEVENT
BEGIN:VEVENT
DTSTAMP:20260420T174416
DTSTART;TZID=Europe/Berlin:20260623T090000
DTEND;TZID=Europe/Berlin:20260623T103000
UID:YO003D-20260623T090000@EV. BILDUNGSWERK - FBS
SUMMARY:PEKiP Di.Vorm. 9 - 10.30 Uhr Jan/Feb/März 26  geb.Babys (YO003D) 
LOCATION:OD Oase in der FBS, Poggenseer Weg 28, Eingang unten links, Poggenseer Weg 28, 23843  Bad Oldesloe
END:VEVENT
BEGIN:VEVENT
DTSTAMP:20260420T174416
DTSTART;TZID=Europe/Berlin:20260630T090000
DTEND;TZID=Europe/Berlin:20260630T103000
UID:YO003D-20260630T090000@EV. BILDUNGSWERK - FBS
SUMMARY:PEKiP Di.Vorm. 9 - 10.30 Uhr Jan/Feb/März 26  geb.Babys (YO003D) 
LOCATION:OD Oase in der FBS, Poggenseer Weg 28, Eingang unten links, Poggenseer Weg 28, 23843  Bad Oldesloe
END:VEVENT
END:VCALENDAR