BEGIN:VCALENDAR
VERSION:2.0
PRODID:https://www.kufer.de/kuferweb / DE
METHOD:PUBLISH
CALSCALE:GREGORIAN
X-WR-TIMEZONE:Europe/Berlin
BEGIN:VTIMEZONE
TZID:Europe/Berlin
X-LIC-LOCATION:Europe/Berlin
BEGIN:DAYLIGHT
TZOFFSETFROM:+0100
TZOFFSETTO:+0200
TZNAME:CEST
DTSTART:19700329T020000
RRULE:FREQ=YEARLY;INTERVAL=1;BYDAY=-1SU;BYMONTH=3
END:DAYLIGHT
BEGIN:STANDARD
TZOFFSETFROM:+0200
TZOFFSETTO:+0100
TZNAME:CET
DTSTART:19701025T030000
RRULE:FREQ=YEARLY;INTERVAL=1;BYDAY=-1SU;BYMONTH=10
END:STANDARD
END:VTIMEZONE
BEGIN:VEVENT
DTSTAMP:20260423T135515
DTSTART;TZID=Europe/Berlin:20260608T104500
DTEND;TZID=Europe/Berlin:20260608T121500
UID:YO002D-20260608T104500@EV. BILDUNGSWERK - FBS
SUMMARY:PEKiP Mo.Vorm. 10:45 -12:15 Uhr Okt/Nov/Dez 25  Babys (YO002D) 
LOCATION:OD Oase in der FBS, Poggenseer Weg 28, Eingang unten links, Poggenseer Weg 28, 23843  Bad Oldesloe
END:VEVENT
BEGIN:VEVENT
DTSTAMP:20260423T135515
DTSTART;TZID=Europe/Berlin:20260615T104500
DTEND;TZID=Europe/Berlin:20260615T121500
UID:YO002D-20260615T104500@EV. BILDUNGSWERK - FBS
SUMMARY:PEKiP Mo.Vorm. 10:45 -12:15 Uhr Okt/Nov/Dez 25  Babys (YO002D) 
LOCATION:OD Oase in der FBS, Poggenseer Weg 28, Eingang unten links, Poggenseer Weg 28, 23843  Bad Oldesloe
END:VEVENT
BEGIN:VEVENT
DTSTAMP:20260423T135515
DTSTART;TZID=Europe/Berlin:20260622T104500
DTEND;TZID=Europe/Berlin:20260622T121500
UID:YO002D-20260622T104500@EV. BILDUNGSWERK - FBS
SUMMARY:PEKiP Mo.Vorm. 10:45 -12:15 Uhr Okt/Nov/Dez 25  Babys (YO002D) 
LOCATION:OD Oase in der FBS, Poggenseer Weg 28, Eingang unten links, Poggenseer Weg 28, 23843  Bad Oldesloe
END:VEVENT
BEGIN:VEVENT
DTSTAMP:20260423T135515
DTSTART;TZID=Europe/Berlin:20260629T104500
DTEND;TZID=Europe/Berlin:20260629T121500
UID:YO002D-20260629T104500@EV. BILDUNGSWERK - FBS
SUMMARY:PEKiP Mo.Vorm. 10:45 -12:15 Uhr Okt/Nov/Dez 25  Babys (YO002D) 
LOCATION:OD Oase in der FBS, Poggenseer Weg 28, Eingang unten links, Poggenseer Weg 28, 23843  Bad Oldesloe
END:VEVENT
END:VCALENDAR